BEGIN:VCALENDAR
VERSION:2.0
PRODID:-//Viviendadeprisa - ECPv6.15.20//NONSGML v1.0//EN
CALSCALE:GREGORIAN
METHOD:PUBLISH
X-WR-CALNAME:Viviendadeprisa
X-ORIGINAL-URL:https://viviendadeprisa.es
X-WR-CALDESC:Eventos para Viviendadeprisa
REFRESH-INTERVAL;VALUE=DURATION:PT1H
X-Robots-Tag:noindex
X-PUBLISHED-TTL:PT1H
BEGIN:VTIMEZONE
TZID:UTC
BEGIN:STANDARD
TZOFFSETFROM:+0000
TZOFFSETTO:+0000
TZNAME:UTC
DTSTART:20220101T000000
END:STANDARD
END:VTIMEZONE
BEGIN:VEVENT
DTSTART;VALUE=DATE:20230524
DTEND;VALUE=DATE:20230528
DTSTAMP:20260420T204402
CREATED:20221107T152818Z
LAST-MODIFIED:20221107T152819Z
UID:14773-1684886400-1685231999@viviendadeprisa.es
SUMMARY:SIMA
DESCRIPTION:La gran semana del sector inmobiliario en España se celebrará del 24 al 27 de mayo de 2023 en IFEMA\, y convertirá a Madrid en la gran capital del sector inmobiliario.
URL:https://viviendadeprisa.es/event/sima-2/
END:VEVENT
END:VCALENDAR