BEGIN:VCALENDAR
VERSION:2.0
PRODID:-//Viviendadeprisa - ECPv6.15.20//NONSGML v1.0//EN
CALSCALE:GREGORIAN
METHOD:PUBLISH
X-WR-CALNAME:Viviendadeprisa
X-ORIGINAL-URL:https://viviendadeprisa.es
X-WR-CALDESC:Eventos para Viviendadeprisa
REFRESH-INTERVAL;VALUE=DURATION:PT1H
X-Robots-Tag:noindex
X-PUBLISHED-TTL:PT1H
BEGIN:VTIMEZONE
TZID:UTC
BEGIN:STANDARD
TZOFFSETFROM:+0000
TZOFFSETTO:+0000
TZNAME:UTC
DTSTART:20230101T000000
END:STANDARD
END:VTIMEZONE
BEGIN:VEVENT
DTSTART;TZID=UTC:20240524T101500
DTEND;TZID=UTC:20240524T114500
DTSTAMP:20260419T215656
CREATED:20240520T081157Z
LAST-MODIFIED:20240520T081157Z
UID:17064-1716545700-1716551100@viviendadeprisa.es
SUMMARY:Jornada "Precios de suelo versus vivienda asequible"
DESCRIPTION:¿Es posible construir vivienda asequible con el precio actual del suelo? La Asociación de Gestoras de Viviendas (AGV) organiza la jornada «Precios de suelo versus vivienda asequible» que se celebra el 24 de mayo de 10:15 a 11:45 horas en la Sala SIMAPRO 2 de IFEMA Madrid (Pabellón 4). \nLa jornada estará moderada por Roberto Vicente\, responsable de Formación de AGV y director del área inmobiliaria de Grupo Altosa y contará con la participación de Mariano Fuentes Sedano\, ex delegado de urbanismo del Ayuntamiento de Madrid\, Samuel Población\, founder & partner de Próxima Real Estate y Juan José Perucho\, presidente de AGV. \n 
URL:https://viviendadeprisa.es/event/jornada-precios-de-suelo-versus-vivienda-asequible/
ATTACH;FMTTYPE=image/jpeg:https://viviendadeprisa.es/wp-content/uploads/2024/05/AGV.jpg
END:VEVENT
END:VCALENDAR